BEGIN:VCALENDAR
VERSION:2.0
PRODID:-//Sabre//Sabre VObject 3.5.3//EN
CALSCALE:GREGORIAN
BEGIN:VTIMEZONE
TZID:Europe/London
BEGIN:STANDARD
TZNAME:GMT
DTSTART:19701025T020000
RRULE:FREQ=YEARLY;BYMONTH=10;BYDAY=-1SU
TZOFFSETFROM:+0100
TZOFFSETTO:+0000
END:STANDARD
BEGIN:DAYLIGHT
TZNAME:BST
DTSTART:19700329T010000
RRULE:FREQ=YEARLY;BYMONTH=3;BYDAY=-1SU
TZOFFSETFROM:+0000
TZOFFSETTO:+0100
END:DAYLIGHT
END:VTIMEZONE
BEGIN:VEVENT
UID:event_208282@studiosymphony.org.uk
DTSTART;VALUE=DATE:20260516
DURATION:P1D
SUMMARY:"Song and Dance" concert in St. Comgall's\, Bangor on Saturday 16th
  May
DESCRIPTION:Join us in St. Comgall&#39\;s Parish Centre\, Bangor on Sat\, 1
 6 May 2026 at 8pm for a tuneful musical journey through song and dance fro
 m the classics. &nbsp\;\n\nExperience a night of musical enchantment as we
  sweep you from the eerie shadows of Saint-Saëns&rsquo\; Danse Macabre to
  the hypnotic pulse of Ravel&rsquo\;s Bolero. This programme celebrates th
 e flair of the stage\, featuring virtuosic vocal fireworks from renowned s
 oprano Rebecca Murphy in Bernstein&rsquo\;s Glitter and Be Gay and Gounod&
 rsquo\;s Je veux vivre. From the elegant whirl of Lehár&rsquo\;s Gold and
  Silver Waltz to the high-energy kicks of Offenbach&rsquo\;s Can-Can\, it 
 is an evening of timeless melodies.\n\nProgramme&nbsp\;\nSaint-Saens &ndas
 h\;&nbsp\;Danse Macabre&nbsp\;\nLehar &ndash\;&nbsp\;Gold and Silver Waltz
 &nbsp\;\nLehar -&nbsp\;Vilia&#39\;s Song&nbsp\;from&nbsp\;The Merry Widow&
 nbsp\;\nBernstein -&nbsp\;Glitter and Be Gay&nbsp\;from&nbsp\;Candide&nbsp
 \;\nOffenbach &ndash\; Can-Can&nbsp\;\nRespighi &ndash\;&nbsp\;Ancient Air
 s and Dances Suite No. 3&nbsp\;\nGounod &ndash\;&nbsp\;Je veux vivre&nbsp\
 ;from&nbsp\;Romeo and Juliet&nbsp\;\nDelibes &ndash\;&nbsp\;Les filles des
  Cadix&nbsp\;\nRavel &ndash\;&nbsp\;Bolero&nbsp\;\n\nConductor:&nbsp\; Pau
 l McCusker\nLeader:&nbsp\; Zuzanna Edmonds\nSoloist: Rebecca Murphy\n\nFor
  full event details\, visit: https://www.studiosymphony.org.uk/dbpage.php?
 pg=view&dbase=events&id=208282
LOCATION:St. Comgall's Parish Centre\, 27 Brunswick Rd\, Bangor BT20 3DS
URL:https://www.studiosymphony.org.uk/dbpage.php?pg=view&dbase=events&id=20
 8282
END:VEVENT
END:VCALENDAR
